BEGIN:VCALENDAR
PRODID:-//eluceo/ical//2.0/EN
VERSION:2.0
CALSCALE:GREGORIAN
BEGIN:VEVENT
UID:2edc8904a5867639419c5ee3b5bd8d0b
DTSTAMP:20260420T222116Z
SUMMARY:JCC Rockland Jewish Film Festival 3/20/17
DESCRIPTION:Jewish Federation & Foundation of Rockland County\nCommunity Ca
 lendar\nhttps://jewishrockland.org/calendar/jcc-rockland-jewish-film-festi
 val-32017\n\nJCC Rockland Jewish Film Festival. Visit jccrockland.org or c
 all 845-362-4400 for more information.
DTSTART;TZID=America/New_York:20170320T193000
DTEND;TZID=America/New_York:20170320T213000
END:VEVENT
END:VCALENDAR
