BEGIN:VCALENDAR
PRODID:-//eluceo/ical//2.0/EN
VERSION:2.0
CALSCALE:GREGORIAN
BEGIN:VEVENT
UID:674fcfa8d0e9b29a78b86c09eaaa47e7
DTSTAMP:20260422T161341Z
SUMMARY:JCC Rockland Jewish Film Festival 3/21/17
DESCRIPTION:Jewish Federation & Foundation of Rockland County\nCommunity Ca
 lendar\nhttps://jewishrockland.org/calendar/jcc-rockland-jewish-film-festi
 val-32117\n\nJCC Rockland Jewish Film Festival 2017. Movie times at 1:30 P
 M and 7:30 PM.\n\nVisit jccrockland.org or call 845-362-4400 for more inf
 ormation.
DTSTART;TZID=America/New_York:20170321T133000
DTEND;TZID=America/New_York:20170321T153000
END:VEVENT
END:VCALENDAR
