BEGIN:VCALENDAR
PRODID:-//eluceo/ical//2.0/EN
VERSION:2.0
CALSCALE:GREGORIAN
BEGIN:VEVENT
UID:40582652a4501770cbe009b02e9f882a
DTSTAMP:20260422T001122Z
SUMMARY:JCC Rockland Jewish Film Festival 3/26/17
DESCRIPTION:Jewish Federation & Foundation of Rockland County\nCommunity Ca
 lendar\nhttps://jewishrockland.org/calendar/jcc-rockland-jewish-film-festi
 val-32617\n\nJCC Rockland Jewish Film Festival 2017. Visit jccrockland.org
  or call 845-362-4400 for more information.
DTSTART;TZID=America/New_York:20170326T190000
DTEND;TZID=America/New_York:20170326T210000
END:VEVENT
END:VCALENDAR
