BEGIN:VCALENDAR
PRODID:-//eluceo/ical//2.0/EN
VERSION:2.0
CALSCALE:GREGORIAN
BEGIN:VEVENT
UID:2913650c1fcc03104d0c7e558922033c
DTSTAMP:20260422T175043Z
SUMMARY:JCC Rockland Jewish Film Festival 4/4/17
DESCRIPTION:Jewish Federation & Foundation of Rockland County\nCommunity Ca
 lendar\nhttps://jewishrockland.org/calendar/jcc-rockland-jewish-film-festi
 val-4417\n\nJCC Rockland Jewish Film Festival 2017
DTSTART;TZID=America/New_York:20170404T133000
DTEND;TZID=America/New_York:20170404T153000
END:VEVENT
END:VCALENDAR
