BEGIN:VCALENDAR
PRODID:-//eluceo/ical//2.0/EN
VERSION:2.0
CALSCALE:GREGORIAN
BEGIN:VEVENT
UID:09974213fe99d78e28a4def61da2d257
DTSTAMP:20260419T143213Z
SUMMARY:JCC Rockland Jewish Film Festival 4/4/17
DESCRIPTION:Jewish Federation & Foundation of Rockland County\nCommunity Ca
 lendar\nhttps://jewishrockland.org/calendar/jcc-rockland-jewish-film-festi
 val-4417-2\n\nJCC Rockland Jewish Film Festival 2017
DTSTART;TZID=America/New_York:20170404T193000
DTEND;TZID=America/New_York:20170404T213000
END:VEVENT
END:VCALENDAR
