BEGIN:VCALENDAR
PRODID:-//eluceo/ical//2.0/EN
VERSION:2.0
CALSCALE:GREGORIAN
BEGIN:VEVENT
UID:ae6785ef89607cc387ca73c3a970ac2b
DTSTAMP:20260424T113556Z
SUMMARY:JCC Rockland Jewish Film Festival 4/5/17
DESCRIPTION:Jewish Federation & Foundation of Rockland County\nCommunity Ca
 lendar\nhttps://jewishrockland.org/calendar/jcc-rockland-jewish-film-festi
 val-4517\n\nJCC Rockland Jewish Film Festival 2017
DTSTART;TZID=America/New_York:20170405T133000
DTEND;TZID=America/New_York:20170405T153000
END:VEVENT
END:VCALENDAR
