BEGIN:VCALENDAR
PRODID:-//eluceo/ical//2.0/EN
VERSION:2.0
CALSCALE:GREGORIAN
BEGIN:VEVENT
UID:8b038f889908faf831d65c3f0c5faf21
DTSTAMP:20260422T050256Z
SUMMARY:JCC Rockland Koenig Hanukkah Celebration
DESCRIPTION:Jewish Federation & Foundation of Rockland County\nCommunity Ca
 lendar\nhttps://jewishrockland.org/calendar/jcc-rockland-koenig-hanukkah-c
 elebration-2017\n\nFun day for children and families to celebrate Hanukkah
  together.
DTSTART;TZID=America/New_York:20171210T110000
DTEND;TZID=America/New_York:20171210T120000
END:VEVENT
END:VCALENDAR
