BEGIN:VCALENDAR
PRODID:-//eluceo/ical//2.0/EN
VERSION:2.0
CALSCALE:GREGORIAN
BEGIN:VEVENT
UID:6a43dae2ea845fa0365595445f5dfe9c
DTSTAMP:20260420T232423Z
SUMMARY:JCC Rockland Koenig Hanukkah Hooplah
DESCRIPTION:Jewish Federation & Foundation of Rockland County\nCommunity Ca
 lendar\nhttps://jewishrockland.org/calendar/jcc-rockland-koenig-hanukkah-h
 ooplah-2018\n\nFun morning for families to celebrate Hanukkah. Visit jccro
 ckland.org for more info or call 845-362-4400.
DTSTART;TZID=America/New_York:20181202T100000
DTEND;TZID=America/New_York:20181202T120000
END:VEVENT
END:VCALENDAR
