BEGIN:VCALENDAR
PRODID:-//eluceo/ical//2.0/EN
VERSION:2.0
CALSCALE:GREGORIAN
BEGIN:VEVENT
UID:7878130cad6e933afa454395664641b6
DTSTAMP:20260425T011600Z
SUMMARY:JCC Rockland Virtual Annual Meeting
DESCRIPTION:Jewish Federation & Foundation of Rockland County\nCommunity Ca
 lendar\nhttps://jewishrockland.org/calendar/jcc-rockland-virtual-annual-me
 eting-1592921233\n\nJoin the JCC Rockland Annual Meeting from your home. Y
 ou will not want to miss it.
DTSTART;TZID=America/New_York:20200630T193000
DTEND;TZID=America/New_York:20200630T210000
END:VEVENT
END:VCALENDAR
