BEGIN:VCALENDAR
PRODID:-//eluceo/ical//2.0/EN
VERSION:2.0
CALSCALE:GREGORIAN
BEGIN:VEVENT
UID:23964a83f7c2e7ac48741a23662293c3
DTSTAMP:20260422T043128Z
SUMMARY:JCC Rockland Winter Festival
DESCRIPTION:Jewish Federation & Foundation of Rockland County\nCommunity Ca
 lendar\nhttps://jewishrockland.org/calendar/jcc-rockland-winter-festival-1
 679323644\n\nFamily day at the J
DTSTART;TZID=America/New_York:20231225T110000
DTEND;TZID=America/New_York:20231225T140000
END:VEVENT
END:VCALENDAR
