BEGIN:VCALENDAR
PRODID:-//eluceo/ical//2.0/EN
VERSION:2.0
CALSCALE:GREGORIAN
BEGIN:VEVENT
UID:5c0e664bb0f77208b1c0d28108816e5c
DTSTAMP:20260420T202630Z
SUMMARY:JCC Rockland's Founders Celebration
DESCRIPTION:Jewish Federation & Foundation of Rockland County\nCommunity Ca
 lendar\nhttps://jewishrockland.org/calendar/jcc-rocklands-founders-celebra
 tion\n\nOn Sunday\, June 2nd\, JCC Rockland is honoring our Community Part
 ners at our annual Founder's Celebration. Our theme for this 36th (double 
 chai) year is “GENEROSITY\,” for their leadership in Standing with Isr
 ael. We are hosting an outdoor seated garden party breakfast with beautifu
 l Israeli music and memorable tributes. Visit www.jccrockland.org to learn
  how you can purchase tickets and support our commemorative journal.
DTSTART;TZID=America/New_York:20240602T090000
DTEND;TZID=America/New_York:20240602T230000
END:VEVENT
END:VCALENDAR
