BEGIN:VCALENDAR
PRODID:-//eluceo/ical//2.0/EN
VERSION:2.0
CALSCALE:GREGORIAN
BEGIN:VEVENT
UID:1ef1bc701585dd72055e82b2bf1e25ce
DTSTAMP:20260422T115929Z
SUMMARY:JCC Rockland's Founders Celebration
DESCRIPTION:Jewish Federation & Foundation of Rockland County\nCommunity Ca
 lendar\nhttps://jewishrockland.org/calendar/jcc-rocklands-founders-celebra
 tion-2025\n\nSave the date for the 37th Founder’s Cosmic Celebration hon
 oring our “Star of David” Kirschtel.
DTSTART;TZID=America/New_York:20250605T183000
DTEND;TZID=America/New_York:20250605T220000
END:VEVENT
END:VCALENDAR
