BEGIN:VCALENDAR
PRODID:-//eluceo/ical//2.0/EN
VERSION:2.0
CALSCALE:GREGORIAN
BEGIN:VEVENT
UID:f99643118aa1a06497effc2fc4a18d01
DTSTAMP:20260420T204222Z
SUMMARY:JCC Scholarship Sunday
DESCRIPTION:Jewish Federation & Foundation of Rockland County\nCommunity Ca
 lendar\nhttps://jewishrockland.org/calendar/jcc-scholarship-sunday\n\nJCC 
 Scholarship Sunday
DTSTART;TZID=America/New_York:20131215T090000
DTEND;TZID=America/New_York:20131215T093000
END:VEVENT
END:VCALENDAR
