BEGIN:VCALENDAR
PRODID:-//eluceo/ical//2.0/EN
VERSION:2.0
CALSCALE:GREGORIAN
BEGIN:VEVENT
UID:5d1cd82f2e691459eaca66246f535ebb
DTSTAMP:20260420T053230Z
SUMMARY:JCC Rockland Sports Dinner
DESCRIPTION:Jewish Federation & Foundation of Rockland County\nCommunity Ca
 lendar\nhttps://jewishrockland.org/calendar/jcc-sports-dinner-11-16\n\nJCC
  Rockland Sports Dinner at the Crowne Plaza\, Suffern. Visit jccrockland.
 org for more information or call 845-362-4400.
DTSTART;TZID=America/New_York:20161116T183000
DTEND;TZID=America/New_York:20161116T220000
END:VEVENT
END:VCALENDAR
