BEGIN:VCALENDAR
PRODID:-//eluceo/ical//2.0/EN
VERSION:2.0
CALSCALE:GREGORIAN
BEGIN:VEVENT
UID:36eb78e52667cf486ba2f1bdfcf57a3c
DTSTAMP:20260423T024634Z
SUMMARY:JCC Wall of Giving
DESCRIPTION:Jewish Federation & Foundation of Rockland County\nCommunity Ca
 lendar\nhttps://jewishrockland.org/calendar/jcc-wall-of-giving-2019\n\nJCC
  Rockland Annual Meeting
DTSTART;TZID=America/New_York:20190612T190000
DTEND;TZID=America/New_York:20190612T210000
END:VEVENT
END:VCALENDAR
