BEGIN:VCALENDAR
PRODID:-//eluceo/ical//2.0/EN
VERSION:2.0
CALSCALE:GREGORIAN
BEGIN:VEVENT
UID:e743e58bb374b316cfb3476e9d4535bb
DTSTAMP:20260423T145118Z
SUMMARY:JCC Wall of Giving
DESCRIPTION:Jewish Federation & Foundation of Rockland County\nCommunity Ca
 lendar\nhttps://jewishrockland.org/calendar/jcc-wall-of-giving-2022\n\nJCC
  Wall of Giving
DTSTART;TZID=America/New_York:20220629T190000
DTEND;TZID=America/New_York:20220629T210000
END:VEVENT
END:VCALENDAR
