BEGIN:VCALENDAR
PRODID:-//eluceo/ical//2.0/EN
VERSION:2.0
CALSCALE:GREGORIAN
BEGIN:VEVENT
UID:d01057a92a033aed6501df644e62db22
DTSTAMP:20260422T075312Z
SUMMARY:JCC Rockland Lecture - Being an Indie Author 
DESCRIPTION:Jewish Federation & Foundation of Rockland County\nCommunity Ca
 lendar\nhttps://jewishrockland.org/calendar/jccrockland-lecture-indie-auth
 or\n\nLecture - Being an Indie Author
DTSTART;TZID=America/New_York:20151020T190000
DTEND;TZID=America/New_York:20151020T210000
END:VEVENT
END:VCALENDAR
