BEGIN:VCALENDAR
PRODID:-//eluceo/ical//2.0/EN
VERSION:2.0
CALSCALE:GREGORIAN
BEGIN:VEVENT
UID:76971d916074d06d6f03bc420dfed376
DTSTAMP:20260420T171906Z
SUMMARY:JCC Rockland's Women's Financial Seminar
DESCRIPTION:Jewish Federation & Foundation of Rockland County\nCommunity Ca
 lendar\nhttps://jewishrockland.org/calendar/jccrockland-womens-financial-s
 eminar-1438796981\n\nWomen's Financial Seminar. Visit jccrockland.org for 
 more information
DTSTART;TZID=America/New_York:20151013T190000
DTEND;TZID=America/New_York:20151013T210000
END:VEVENT
END:VCALENDAR
