BEGIN:VCALENDAR
PRODID:-//eluceo/ical//2.0/EN
VERSION:2.0
CALSCALE:GREGORIAN
BEGIN:VEVENT
UID:edf2ddb0aec737198532e992095d5f4a
DTSTAMP:20260421T153838Z
SUMMARY:JDAIM Dinner and Dialogue
DESCRIPTION:Jewish Federation & Foundation of Rockland County\nCommunity Ca
 lendar\nhttps://jewishrockland.org/calendar/jdaim-dinner-and-dialogue-1706
 807146\n\nJoin OJC for Dinner & Dialogue in Celebration of JDAIM (Jewish D
 isabilities\, Awareness and Inclusion Month) Shabbat.
DTSTART;TZID=America/New_York:20240223T180000
DTEND;TZID=America/New_York:20240223T200000
END:VEVENT
END:VCALENDAR
