BEGIN:VCALENDAR
PRODID:-//eluceo/ical//2.0/EN
VERSION:2.0
CALSCALE:GREGORIAN
BEGIN:VEVENT
UID:e379d49a7f7d56fad75ba3de60ad6cc7
DTSTAMP:20260424T231124Z
SUMMARY:JDAIM Shabbat Service at The Reform Temple of Rockland
DESCRIPTION:Jewish Federation & Foundation of Rockland County\nCommunity Ca
 lendar\nhttps://jewishrockland.org/calendar/jdaim-shabbat-service-at-the-r
 eform-temple-of-rockland-1672944378\n\nJewish Disability Awareness\, Accep
 tance and Inclusion Month will be highlighted at our Friday Night Erev Sha
 bbat Service beginning at 7:30 PM. The service will feature speaker Gabrie
 lle Kohler. Services are open to all. Covid vaccination and booster proof 
 will be asked for at the door. Masking is optional. An oneg will follow th
 e service.
DTSTART;TZID=America/New_York:20230210T193000
DTEND;TZID=America/New_York:20230210T210000
END:VEVENT
END:VCALENDAR
