BEGIN:VCALENDAR
PRODID:-//eluceo/ical//2.0/EN
VERSION:2.0
CALSCALE:GREGORIAN
BEGIN:VEVENT
UID:8d3113f69c314f84eea32c34e21a6d7d
DTSTAMP:20260425T223149Z
SUMMARY:Jews On the Hudson with Congregation Sons of Israel
DESCRIPTION:Jewish Federation & Foundation of Rockland County\nCommunity Ca
 lendar\nhttps://jewishrockland.org/calendar/jew-on-the-hudson-with-congreg
 ation-sons-of-israel-1671647839\n\nAre you in your 20's\,30's\,40's or 50'
 s? Join CSI for an evening of Wine Nibbles and Art Supplies \nRSVP to rabb
 irusso@csinyack.org Babysitting requests to: amibonawitz@yahoo.com
DTSTART;TZID=America/New_York:20230128T193000
DTEND;TZID=America/New_York:20230128T220000
END:VEVENT
END:VCALENDAR
