BEGIN:VCALENDAR
PRODID:-//eluceo/ical//2.0/EN
VERSION:2.0
CALSCALE:GREGORIAN
BEGIN:VEVENT
UID:95434c4fc17d2a357fe235f93910d925
DTSTAMP:20260423T014039Z
SUMMARY:Jewish Armchair Yoga - July 1
DESCRIPTION:Jewish Federation & Foundation of Rockland County\nCommunity Ca
 lendar\nhttps://jewishrockland.org/calendar/jewish-armchair-yoga-july-1\n\
 nClasses so-taught by Rabbi Drill (Jewish chant and texts to teach the bod
 y-soul connection) and Lori Zucker\, PhD\, Physical Therapist and Certifie
 d Yoga Instructor. Members $12/per class or $40/for all four classes. Non-
 members welcome\, $15/per class or $50/for all four classes.
DTSTART;TZID=America/New_York:20140701T100000
DTEND;TZID=America/New_York:20140701T113000
END:VEVENT
END:VCALENDAR
