BEGIN:VCALENDAR
PRODID:-//eluceo/ical//2.0/EN
VERSION:2.0
CALSCALE:GREGORIAN
BEGIN:VEVENT
UID:35ab08daa307748533ec26c0020eb5f3
DTSTAMP:20260421T192839Z
SUMMARY:Jewish Armchair Yoga - June 24
DESCRIPTION:Jewish Federation & Foundation of Rockland County\nCommunity Ca
 lendar\nhttps://jewishrockland.org/calendar/jewish-armchair-yoga-june-24\n
 \nClasses co-taught by Rabbi Drill (Jewish chant and texts to teach the bo
 dy-soul connection) and Lori Zucker\, PhD\, Physical Therapist and Certifi
 ed Yoga Instructor. Members $12/per class or $40/all four classes. Non-mem
 bers welcome\, $15/per class or $50/all four classes.
DTSTART;TZID=America/New_York:20140624T100000
DTEND;TZID=America/New_York:20140624T233000
END:VEVENT
END:VCALENDAR
