BEGIN:VCALENDAR
PRODID:-//eluceo/ical//2.0/EN
VERSION:2.0
CALSCALE:GREGORIAN
BEGIN:VEVENT
UID:5216f653492663c67abe20ae8134e752
DTSTAMP:20260426T023341Z
SUMMARY:Jewish Broadway with Arthur Aldrich
DESCRIPTION:Jewish Federation & Foundation of Rockland County\nCommunity Ca
 lendar\nhttps://jewishrockland.org/calendar/jewish-broadway-with-arthur-al
 drich-NCJW\n\nStroll down memory lane with Broadway aficionado Arthur Aldr
 ich\, founder\, editor\, and publisher of Our Town newspaper. Sponsored by
  National Council of Jewish Women (NCJW) Refreshments served.
DTSTART;TZID=America/New_York:20170503T074500
DTEND;TZID=America/New_York:20170503T211500
END:VEVENT
END:VCALENDAR
