BEGIN:VCALENDAR
PRODID:-//eluceo/ical//2.0/EN
VERSION:2.0
CALSCALE:GREGORIAN
BEGIN:VEVENT
UID:9f82098f999c233e68898dcef0ef5514
DTSTAMP:20260423T222853Z
SUMMARY:Jewish Ethics of War: Part II Pidyon Shvuyim: Bargaining for Human 
 Lives
DESCRIPTION:Jewish Federation & Foundation of Rockland County\nCommunity Ca
 lendar\nhttps://jewishrockland.org/calendar/jewish-ethics-of-war-part-ii-p
 idyon-shvuyim-bargaining-for-human-lives-1698772884\n\nJoin Rabbi Carl Per
 kins for a deeper look into the ethics of war and human life.
DTSTART;TZID=America/New_York:20231113T200000
DTEND;TZID=America/New_York:20231113T220000
END:VEVENT
END:VCALENDAR
