BEGIN:VCALENDAR
PRODID:-//eluceo/ical//2.0/EN
VERSION:2.0
CALSCALE:GREGORIAN
BEGIN:VEVENT
UID:49228ab10ceaa81f095644e0bcf949aa
DTSTAMP:20260421T232330Z
SUMMARY:Jewish Federation & Foundation of Rockland County Board Meeting
DESCRIPTION:Jewish Federation & Foundation of Rockland County\nCommunity Ca
 lendar\nhttps://jewishrockland.org/calendar/jewish-federation-foundation-o
 f-rockland-county-board-meeting-apr-192207\n\nBoard Meeting
DTSTART;TZID=America/New_York:20170403T193000
DTEND;TZID=America/New_York:20170403T210000
END:VEVENT
END:VCALENDAR
