BEGIN:VCALENDAR
PRODID:-//eluceo/ical//2.0/EN
VERSION:2.0
CALSCALE:GREGORIAN
BEGIN:VEVENT
UID:2db7584f7c11cde5bc5b4ef5a3348fd6
DTSTAMP:20260424T043449Z
SUMMARY:Jewish Heritage Month - The Danish Jews: Influence\, Rescue & Survi
 val
DESCRIPTION:Jewish Federation & Foundation of Rockland County\nCommunity Ca
 lendar\nhttps://jewishrockland.org/calendar/jewish-heritage-month-danish-j
 ews\n\nOpen to the public and free of charge. Kosher refreshments served. 
 For information contact Rabbi Dov Oliver at 845-574-4422
DTSTART;TZID=America/New_York:20160330T123000
DTEND;TZID=America/New_York:20160330T133000
END:VEVENT
END:VCALENDAR
