BEGIN:VCALENDAR
PRODID:-//eluceo/ical//2.0/EN
VERSION:2.0
CALSCALE:GREGORIAN
BEGIN:VEVENT
UID:7e1d35ca0a28b1677dd9ab3f103ce253
DTSTAMP:20260420T023902Z
SUMMARY:Jewish History Timeline
DESCRIPTION:Jewish Federation & Foundation of Rockland County\nCommunity Ca
 lendar\nhttps://jewishrockland.org/calendar/jewish-history-timeline-169877
 2380\n\nHave you ever wondered how the destruction of the destruction of t
 he 2nd Temple\, the rise of King David\, the writing of the Talmud\, the F
 irst Zionist Congress\, and scores of other events in Jewish history relat
 e to each other?\nJoin the New City Jewish Center Monday Lunch n’ Learn 
 for an overview of the Jewish History Timeline from the Exodus to the Mode
 rn State of Israel.
DTSTART;TZID=America/New_York:20231106T120000
DTEND;TZID=America/New_York:20231106T140000
END:VEVENT
END:VCALENDAR
