BEGIN:VCALENDAR
PRODID:-//eluceo/ical//2.0/EN
VERSION:2.0
CALSCALE:GREGORIAN
BEGIN:VEVENT
UID:b65496b1796f591708feae743d0b2d4d
DTSTAMP:20260425T015038Z
SUMMARY:Jewish Life In The Hereafter at CSI
DESCRIPTION:Jewish Federation & Foundation of Rockland County\nCommunity Ca
 lendar\nhttps://jewishrockland.org/calendar/jewish-life-in-the-hereafter-a
 t-csi-1757559140\n\nCan We Talk About Something More Pleasant series (Jewi
 sh Life in the Hereafter)\nJewish Concepts of the Afterlife with Rabbi Ari
 el Russo\nSunday October 26\, 2025 10:30-12:00 pm\nRefreshments served\nSu
 ggested donation $18\nRSVP a must at office@csinyack.org
DTSTART;TZID=America/New_York:20251026T103000
DTEND;TZID=America/New_York:20251026T120000
END:VEVENT
END:VCALENDAR
