BEGIN:VCALENDAR
PRODID:-//eluceo/ical//2.0/EN
VERSION:2.0
CALSCALE:GREGORIAN
BEGIN:VEVENT
UID:69ddfbe5ee6ee99ebf2f654e3fafede1
DTSTAMP:20260420T230917Z
SUMMARY:Jewish Parenting Book Club
DESCRIPTION:Jewish Federation & Foundation of Rockland County\nCommunity Ca
 lendar\nhttps://jewishrockland.org/calendar/jewish-parenting-book-club\n\n
 Jewish Parenting Book Club\n\n5 Thursdays a year at 8:30 PM\n\nRemaining 2
 018 sessions: March 15\, May 17\n\n\nJoin us at Rabbi Russo's home to disc
 uss the unique way our Jewish values and identity influence our parenting 
 styles\nThis month's book is: Casting Lots by Susan Silverman\nContact our
  office for more details\n\n\n 
DTSTART;TZID=America/New_York:20180118T203000
DTEND;TZID=America/New_York:20180118T220000
END:VEVENT
END:VCALENDAR
