BEGIN:VCALENDAR
PRODID:-//eluceo/ical//2.0/EN
VERSION:2.0
CALSCALE:GREGORIAN
BEGIN:VEVENT
UID:c46b2027c4a39360a88059cea8e0ef8a
DTSTAMP:20260421T200928Z
SUMMARY:Jewish Pop Art- An Evening With Yitzchok Moully\, The Pop Art Rabbi
DESCRIPTION:Jewish Federation & Foundation of Rockland County\nCommunity Ca
 lendar\nhttps://jewishrockland.org/calendar/jewish-pop-art--an-evening-wit
 h-yitzchok-moully-the-pop-art-rabbi-1546273842\n\n Rabbi Moulley\, the Pop
  Art Rabbi\, travels across the globe offering his unique &ldquo\;Silk Scr
 een Workshop.&rdquo\; This workshop gives participants the opportunity to 
 create their own contemporary art.The process allows each participant to p
 rint a prepared image onto a canvas\, creating a unique\, yet recognizable
 \, piece of art.\nRabbi Moully will also share his journey in a brief talk
  titled\, &ldquo\;What&rsquo\;s a Good Jewish Rabbi Doing Painting&rdquo\;
  and sharing the place of creativity in Judasim. His art can be seen...
DTSTART;TZID=America/New_York:20190107T193000
DTEND;TZID=America/New_York:20190107T213000
END:VEVENT
END:VCALENDAR
