BEGIN:VCALENDAR
PRODID:-//eluceo/ical//2.0/EN
VERSION:2.0
CALSCALE:GREGORIAN
BEGIN:VEVENT
UID:ae1f1b8f1467d8a07aab704f37ca66b2
DTSTAMP:20260420T185838Z
SUMMARY:Jewish Women Sing
DESCRIPTION:Jewish Federation & Foundation of Rockland County\nCommunity Ca
 lendar\nhttps://jewishrockland.org/calendar/jewish-women-sing-1635429713\n
 \nDr. Rose Feinberg leads a presentation of Jewish Women Sing about Bette 
 Midler\, Carole King and Barbara Streisand
DTSTART;TZID=America/New_York:20211103T193000
DTEND;TZID=America/New_York:20211103T203000
END:VEVENT
END:VCALENDAR
