BEGIN:VCALENDAR
PRODID:-//eluceo/ical//2.0/EN
VERSION:2.0
CALSCALE:GREGORIAN
BEGIN:VEVENT
UID:704b4d82564bfb98960e1d6229c60cc2
DTSTAMP:20260421T150103Z
SUMMARY:JFM -Just for Moms (Raising Children)
DESCRIPTION:Jewish Federation & Foundation of Rockland County\nCommunity Ca
 lendar\nhttps://jewishrockland.org/calendar/jfm-just-for-moms-raising-chil
 dren-1411065486-108984\n\nGather with Rabbi Drill and other moms to celebr
 ate the monthly holiday of Rosh Hodesh. Through ritual\, study\, discussio
 n and artistic expression\, women will gain Jewish wisdom and confidence\,
  expanding their horizons and learning from discussions about raising Jewi
 sh children. There is no cost. Registration is requested on a monthly basi
 s. Also takes place on: October 23\, December 22.\nContact the OJC for loc
 ation information.
DTSTART;TZID=America/New_York:20141123T190000
DTEND;TZID=America/New_York:20141123T210000
END:VEVENT
END:VCALENDAR
