BEGIN:VCALENDAR
PRODID:-//eluceo/ical//2.0/EN
VERSION:2.0
CALSCALE:GREGORIAN
BEGIN:VEVENT
UID:3893f9be7da486c4f8514c2b06200139
DTSTAMP:20260420T225705Z
SUMMARY:Winter Warm-up at JCC Rockland
DESCRIPTION:Jewish Federation & Foundation of Rockland County\nCommunity Ca
 lendar\nhttps://jewishrockland.org/calendar/jkids-open-house-1750876326\n\
 nWarm up with a full day of fitness and family fun at JCC Rockland.\n\nFit
 ness Open House (8 AM–4 PM):\nTry classes\, meet trainers\, and tour the
  Fitness & Wellness Center.\n\nFamily Fun Winter Celebration (2–4 PM):\n
 Inflatables\, crafts\, music\, cookie decorating\, hot cocoa\, and a chanc
 e for kids to reunite with camp friends.\n\nCost: $10 per child\n\nRegist
 er: jccrockland.org/winter-warm-up\n\n 
DTSTART;TZID=America/New_York:20260111T080000
DTEND;TZID=America/New_York:20260111T160000
END:VEVENT
END:VCALENDAR
