BEGIN:VCALENDAR
PRODID:-//eluceo/ical//2.0/EN
VERSION:2.0
CALSCALE:GREGORIAN
BEGIN:VEVENT
UID:c1cbd908e0606bb986441ebd54a5235b
DTSTAMP:20260419T143202Z
SUMMARY:Join Orangetown Jewish Center with the Israeli Scouts
DESCRIPTION:Jewish Federation & Foundation of Rockland County\nCommunity Ca
 lendar\nhttps://jewishrockland.org/calendar/join-orangetown-jewish-center-
 with-the-israeli-scouts-1707410244\n\nSpend a Shabbat weekend with the OJC
  and the Israeli Scouts filled with music and spirit
DTSTART;TZID=America/New_York:20240614T180000
DTEND;TZID=America/New_York:20240615T200000
END:VEVENT
END:VCALENDAR
