BEGIN:VCALENDAR
PRODID:-//eluceo/ical//2.0/EN
VERSION:2.0
CALSCALE:GREGORIAN
BEGIN:VEVENT
UID:56d43bad5fb2549790ca0330cd840622
DTSTAMP:20260420T002054Z
SUMMARY:Journal Brunch Honoring Men's Club & Diane Serratore\, People to Pe
 ople
DESCRIPTION:Jewish Federation & Foundation of Rockland County\nCommunity Ca
 lendar\nhttps://jewishrockland.org/calendar/journal-brunch-honoring-mens-c
 lub--diane-serratore-people-to-people-1553269922\n\nWe invite you to join 
 us at Nanuet Hebrew Center&#039\;s annual Journal Awards Ceremony and Brun
 ch Reception\, on Sunday\, April 7th from 9:30am - 12:30pm at The Rockleig
 h Country Club.  Honorees will be past and current presidents of our NHC M
 en&rsquo\;s Club.  In addition\, this year&#039\;s NHC Stanley Blumenthal 
 Community Service Award honoree will be Diane Serratore &ndash\;People to 
 People.  $65 per person.  [Also look for silent auction and tricky tray at
  the reception!] \nPlease click here for more info: ...
DTSTART;TZID=America/New_York:20190407T093000
DTEND;TZID=America/New_York:20190407T123000
END:VEVENT
END:VCALENDAR
