BEGIN:VCALENDAR
PRODID:-//eluceo/ical//2.0/EN
VERSION:2.0
CALSCALE:GREGORIAN
BEGIN:VEVENT
UID:3934a084bc04941a7a5f1c4c72a263d7
DTSTAMP:20260420T054602Z
SUMMARY:Jr. Maccabi Games 2015
DESCRIPTION:Jewish Federation & Foundation of Rockland County\nCommunity Ca
 lendar\nhttps://jewishrockland.org/calendar/jr-maccabi-games-2015-65522\n\
 nWe're looking for Jewish athletes (ages 11-12 as of 5/1/15) to participat
 e in a one-day Jr. Maccabi Games in Wilmington\, Delaware. Team sports (ba
 sketball\, baseball and soccer) and Individual Sports (swimming\, tennis a
 nd table tennis). 
DTSTART;TZID=America/New_York:20150503T090000
DTEND;TZID=America/New_York:20150503T190000
END:VEVENT
END:VCALENDAR
