BEGIN:VCALENDAR
PRODID:-//eluceo/ical//2.0/EN
VERSION:2.0
CALSCALE:GREGORIAN
BEGIN:VEVENT
UID:7c4bdd218676d5aefc30274d1e09d1ea
DTSTAMP:20260425T220847Z
SUMMARY:Judaica art\, sport & music memborabilia Auction
DESCRIPTION:Jewish Federation & Foundation of Rockland County\nCommunity Ca
 lendar\nhttps://jewishrockland.org/calendar/judaica-art-sport--music-membo
 rabilia-auction\n\nAuction
DTSTART;TZID=America/New_York:20131026T200000
DTEND;TZID=America/New_York:20131026T230000
END:VEVENT
END:VCALENDAR
