BEGIN:VCALENDAR
PRODID:-//eluceo/ical//2.0/EN
VERSION:2.0
CALSCALE:GREGORIAN
BEGIN:VEVENT
UID:580f2c4b04a1a1c05b09471690f2c670
DTSTAMP:20260421T030439Z
SUMMARY:Junior Congregation (Grades 3+) at NCJC
DESCRIPTION:Jewish Federation & Foundation of Rockland County\nCommunity Ca
 lendar\nhttps://jewishrockland.org/calendar/junior-congregation-grades-3-a
 t-ncjc-7346\n\nJunior Congregation (Grades 3+) at NCJC
DTSTART;TZID=America/New_York:20130309T104500
DTEND;TZID=America/New_York:20130309T111500
END:VEVENT
END:VCALENDAR
