BEGIN:VCALENDAR
PRODID:-//eluceo/ical//2.0/EN
VERSION:2.0
CALSCALE:GREGORIAN
BEGIN:VEVENT
UID:5235c217e694ea01ea835fd5a74cd3cf
DTSTAMP:20260420T041750Z
SUMMARY:Kabbalat Family Service
DESCRIPTION:Jewish Federation & Foundation of Rockland County\nCommunity Ca
 lendar\nhttps://jewishrockland.org/calendar/kabbalat-family-service-156346
 1061\n\nTemple Beth Sholom is having a wonderful musical kabbalat at 6:00p
 m. Pizza will be served at 6:30pm to those who RSVP by August 7 to 845-638
 -0770. At 7:00pm we will sing ourselves into the sanctuary and enjoy a fam
 ily Shabbat service\, complete with birthday blessings for all January bir
 thdays. Please join us for all\, or part\, of this very kid friendly\, fam
 ily oriented event.
DTSTART;TZID=America/New_York:20200103T180000
DTEND;TZID=America/New_York:20200103T200000
END:VEVENT
END:VCALENDAR
