BEGIN:VCALENDAR
PRODID:-//eluceo/ical//2.0/EN
VERSION:2.0
CALSCALE:GREGORIAN
BEGIN:VEVENT
UID:3ae0a4d3b9faf810d28a567db7204584
DTSTAMP:20260419T191713Z
SUMMARY:Kabbalat Family Shabbat
DESCRIPTION:Jewish Federation & Foundation of Rockland County\nCommunity Ca
 lendar\nhttps://jewishrockland.org/calendar/kabbalat-family-shabbat-156346
 1453\n\nTemple Beth Sholom is having a wonderful musical kabbalat and stor
 y at 6:00pm. Pizza will be served at 6:30pm to those who RSVP by April 1 t
 o 845-638-0770. At 7:00pm we will sing ourselves into the sanctuary and en
 joy a family Shabbat service\, complete with birthday blessings for all Ap
 ril birthdays. Please join us for all\, or part\, of this very kid friendl
 y\, family oriented event.
DTSTART;TZID=America/New_York:20200403T180000
DTEND;TZID=America/New_York:20200403T200000
END:VEVENT
END:VCALENDAR
