BEGIN:VCALENDAR
PRODID:-//eluceo/ical//2.0/EN
VERSION:2.0
CALSCALE:GREGORIAN
BEGIN:VEVENT
UID:daf85ad78f0f0e84ead5143bbb24b2cf
DTSTAMP:20260422T060755Z
SUMMARY:Kabbalat Family Shabbat and Open House
DESCRIPTION:Jewish Federation & Foundation of Rockland County\nCommunity Ca
 lendar\nhttps://jewishrockland.org/calendar/kabbalat-family-shabbat-and-op
 en-house-1563458467\n\nTemple Beth Sholom is having a wonderful musical ka
 bbalat at 6:00pm. Pizza will be served at 6:30pm to those are RSVP by Augu
 st 7 to 845-638-0770. At 7:00pm we will sing ourselves into the sanctuary 
 and enjoy a family Shabbat service\, complete with birthday blessings for 
 all summer birthdays. Please join us for all\, or part\, of this very kid 
 friendly\, family oriented event. Rabbi Brian Leiken\, Cantor Anna Zhar\, 
 Nursery School Director Lori Scott\, Religious School Director Marilyn Fel
 lows\, and...
DTSTART;TZID=America/New_York:20190809T180000
DTEND;TZID=America/New_York:20190809T200000
END:VEVENT
END:VCALENDAR
