BEGIN:VCALENDAR
PRODID:-//eluceo/ical//2.0/EN
VERSION:2.0
CALSCALE:GREGORIAN
BEGIN:VEVENT
UID:c246d5985aeba8990a705e8ce39035f5
DTSTAMP:20260422T072847Z
SUMMARY:King Matt the First
DESCRIPTION:Jewish Federation & Foundation of Rockland County\nCommunity Ca
 lendar\nhttps://jewishrockland.org/calendar/king-matt-the-first-1714753036
 \n\nBased on a Polish book written in 1923\, a 5-year old orphan Matt\, be
 comes King and faces an adult world of laws and prejudices. he changes eve
 rything.\nPerformance is 50 minutes\, followed by Q & A about author Janus
 z Korczak\, a children’s activist and Holocaust martyr.
DTSTART;TZID=America/New_York:20240516T183000
DTEND;TZID=America/New_York:20240516T200000
END:VEVENT
END:VCALENDAR
