BEGIN:VCALENDAR
PRODID:-//eluceo/ical//2.0/EN
VERSION:2.0
CALSCALE:GREGORIAN
BEGIN:VEVENT
UID:34e32988255e9fb6db07bb2a942c7fcb
DTSTAMP:20260424T104142Z
SUMMARY:Koenig Chanukah Celebration
DESCRIPTION:Jewish Federation & Foundation of Rockland County\nCommunity Ca
 lendar\nhttps://jewishrockland.org/calendar/koenig-chanukah-celebration-12
 -18\n\nKoenig Hanukkah Concert and Celebration. Visit jccrockland.org for 
 more information.
DTSTART;TZID=America/New_York:20161218T000000
DTEND;TZID=America/New_York:20161218T000000
END:VEVENT
END:VCALENDAR
