BEGIN:VCALENDAR
PRODID:-//eluceo/ical//2.0/EN
VERSION:2.0
CALSCALE:GREGORIAN
BEGIN:VEVENT
UID:4818f0cc494c2edb01e63e7c4390f358
DTSTAMP:20260422T032528Z
SUMMARY:Koenig Hanukkah Concert & Celebration
DESCRIPTION:Jewish Federation & Foundation of Rockland County\nCommunity Ca
 lendar\nhttps://jewishrockland.org/calendar/koenig-hanukkah-concert--celeb
 ration\n\nKoenig Hanukkah Concert & Celebration
DTSTART;TZID=America/New_York:20131117T110000
DTEND;TZID=America/New_York:20131117T130000
END:VEVENT
END:VCALENDAR
