BEGIN:VCALENDAR
PRODID:-//eluceo/ical//2.0/EN
VERSION:2.0
CALSCALE:GREGORIAN
BEGIN:VEVENT
UID:09c8b09d88c0fe0f4c313377287f55cf
DTSTAMP:20260422T123217Z
SUMMARY:Kristallnacht commemoration
DESCRIPTION:Jewish Federation & Foundation of Rockland County\nCommunity Ca
 lendar\nhttps://jewishrockland.org/calendar/kristallnacht-commemoration-17
 22533916\n\nKristallnacht commemoration
DTSTART;TZID=America/New_York:20241103T170000
DTEND;TZID=America/New_York:20241103T190000
END:VEVENT
END:VCALENDAR
