BEGIN:VCALENDAR
PRODID:-//eluceo/ical//2.0/EN
VERSION:2.0
CALSCALE:GREGORIAN
BEGIN:VEVENT
UID:ef1ebc9f7383cbeaba25c76a81f619b7
DTSTAMP:20260420T114658Z
SUMMARY:K'tanim: Learn About Passover
DESCRIPTION:Jewish Federation & Foundation of Rockland County\nCommunity Ca
 lendar\nhttps://jewishrockland.org/calendar/ktanim-learn-about-passover-15
 15519783\n\nParents and grandparents are invited to bring their "little on
 es" to our FREE monthly Preschool Program\, K'tanim. A perfect introductio
 n to Judaism for children ages 18 months to Kindergarten. This month we di
 scover Passover through crafts\, music and play.
DTSTART;TZID=America/New_York:20180325T093000
DTEND;TZID=America/New_York:20180325T103000
END:VEVENT
END:VCALENDAR
