BEGIN:VCALENDAR
PRODID:-//eluceo/ical//2.0/EN
VERSION:2.0
CALSCALE:GREGORIAN
BEGIN:VEVENT
UID:c8f6ffc3c45e5df205089cb891c748b5
DTSTAMP:20260426T035301Z
SUMMARY:K'tanim - Learn About Sukkot
DESCRIPTION:Jewish Federation & Foundation of Rockland County\nCommunity Ca
 lendar\nhttps://jewishrockland.org/calendar/ktanim-learn-about-sukkot\n\nP
 arents and grandparents are invited to bring their "little ones" to our FR
 EE monthly Preschool Program\, K'tanim. A perfect introduction to Judaism 
 for children ages 18 months to Kindergarten. This month we discover Sukkot
  through crafts\, music and play.
DTSTART;TZID=America/New_York:20171001T093000
DTEND;TZID=America/New_York:20171001T103000
END:VEVENT
END:VCALENDAR
