BEGIN:VCALENDAR
PRODID:-//eluceo/ical//2.0/EN
VERSION:2.0
CALSCALE:GREGORIAN
BEGIN:VEVENT
UID:d6f9f6865f2c73deae010532178cb004
DTSTAMP:20260420T084832Z
SUMMARY:K'tanim: Learn About Tu B'Shevat
DESCRIPTION:Jewish Federation & Foundation of Rockland County\nCommunity Ca
 lendar\nhttps://jewishrockland.org/calendar/ktanim-learn-about-tu-bshevat-
 1515519331\n\nParents and grandparents are invited to bring their "little 
 ones" to our FREE monthly Preschool Program\, K'tanim. A perfect introduct
 ion to Judaism for children ages 18 months to Kindergarten. This month we 
 discover Tu B'Shevat through crafts\, music and play.
DTSTART;TZID=America/New_York:20180128T093000
DTEND;TZID=America/New_York:20180128T103000
END:VEVENT
END:VCALENDAR
