BEGIN:VCALENDAR
PRODID:-//eluceo/ical//2.0/EN
VERSION:2.0
CALSCALE:GREGORIAN
BEGIN:VEVENT
UID:54383c6a9cefbea7c045794bc91083e7
DTSTAMP:20260420T040401Z
SUMMARY:K'tanim: Preschool Program - Noah's Ark
DESCRIPTION:Jewish Federation & Foundation of Rockland County\nCommunity Ca
 lendar\nhttps://jewishrockland.org/calendar/ktanim-preschool-program---noa
 hs-ark-1532448868\n\nParents and Grandparents are invited to bring their "
 little ones" to RTR's free monthly Preschool Program. This program is desi
 gned for ages 18 months to 4 years. This month Noah's Ark is coming to RTR
 ! Learn the Jewish value of being kind to animals as we get to meet some u
 p close! Let us know you're coming by registering with the link provided.
DTSTART;TZID=America/New_York:20181014T090000
DTEND;TZID=America/New_York:20181014T100000
END:VEVENT
END:VCALENDAR
